BEGIN:VCALENDAR
VERSION:2.0
PRODID:-//Irvine Center for Addiction Neuroscience (ICAN) - ECPv6.15.18//NONSGML v1.0//EN
CALSCALE:GREGORIAN
METHOD:PUBLISH
X-ORIGINAL-URL:https://ican.uci.edu
X-WR-CALDESC:Events for Irvine Center for Addiction Neuroscience (ICAN)
REFRESH-INTERVAL;VALUE=DURATION:PT1H
X-Robots-Tag:noindex
X-PUBLISHED-TTL:PT1H
BEGIN:VTIMEZONE
TZID:America/Los_Angeles
BEGIN:DAYLIGHT
TZOFFSETFROM:-0800
TZOFFSETTO:-0700
TZNAME:PDT
DTSTART:20220313T100000
END:DAYLIGHT
BEGIN:STANDARD
TZOFFSETFROM:-0700
TZOFFSETTO:-0800
TZNAME:PST
DTSTART:20221106T090000
END:STANDARD
BEGIN:DAYLIGHT
TZOFFSETFROM:-0800
TZOFFSETTO:-0700
TZNAME:PDT
DTSTART:20230312T100000
END:DAYLIGHT
BEGIN:STANDARD
TZOFFSETFROM:-0700
TZOFFSETTO:-0800
TZNAME:PST
DTSTART:20231105T090000
END:STANDARD
BEGIN:DAYLIGHT
TZOFFSETFROM:-0800
TZOFFSETTO:-0700
TZNAME:PDT
DTSTART:20240310T100000
END:DAYLIGHT
BEGIN:STANDARD
TZOFFSETFROM:-0700
TZOFFSETTO:-0800
TZNAME:PST
DTSTART:20241103T090000
END:STANDARD
END:VTIMEZONE
BEGIN:VEVENT
DTSTART;TZID=America/Los_Angeles:20230420T110000
DTEND;TZID=America/Los_Angeles:20230420T120000
DTSTAMP:20260423T163540
CREATED:20230414T225309Z
LAST-MODIFIED:20230414T225546Z
UID:347-1681988400-1681992000@ican.uci.edu
SUMMARY:Functional consequences of psychotropic drug exposure early in development
DESCRIPTION:Featuring: Arturo Zavala\, PhD\nDepartment of Psychology\nCalifornia State University\,\nLong Beach\n  \nHybrid Event\nThis seminar will be live-streamed via Zoom and In-Person.\nIn-Person:\nHerklotz Conference Room\nCenter for the Neurobiology of Learning and Memory\n300 Qureshey Research Lab\nZoom: https://uci.zoom.us/meeting/register/tJUucuqpqjItHtbaNGUCZJoZCND2WGkGcRHW \nAbstract:\nAttention Deficit Hyperactivity Disorder (ADHD) and depression are the most common diagnoses in children and adolescents\, and the use of medications to treat these conditions has increased dramatically over the past three decades. However\, little research has examined the functional consequences of early and extended use of these medications. Preclinical studies demonstrate that early exposure to methylphenidate (Ritalin) and fluoxetine (Prozac) enhances the abuse potential of cocaine. I will present data from animal studies that show the effects of early exposure to methylphenidate and ketamine\, a recently approved antidepressant\, on the rewarding effects of nicotine and alcohol in adolescent male and female rats. The findings from these studies have significant clinical implications for the use of psychotropic drugs in children and adolescents. LEARN MORE \nDr. Arturo Zavala is a Professor in the Department of Psychology at California State University\, Long Beach. He received his Ph.D. in Behavioral Neuroscience from Arizona State University. Dr. Zavala’s research program focuses on the functional consequences of early exposure to psychoactive drugs and later susceptibility to drug abuse\, as well as the role of serotonin and glucagon-like peptide 1 in modulating the effects of drugs of abuse. His laboratory combines neurochemical\, molecular\, and pharmacological approaches with animal behavioral models to understand the neural basis of addiction. Dr. Zavala is also Co-Director of the Building Infrastructure Leading to Diversity (BUILD) program\, which aims to increase the number of underrepresented students entering biomedical and health-related research careers. LEARN MORE
URL:https://ican.uci.edu/event/functional-consequences-of-psychotropic-drug-exposure-early-in-development/
LOCATION:Herklotz Conference Room\, Center for the Neurobiology of Learning and Memory\, 300 Qureshey Research Lab
ATTACH;FMTTYPE=image/png:https://ican.uci.edu/wp-content/uploads/sites/48/2023/04/Arturo-Zavala-Presentation-169.png
END:VEVENT
END:VCALENDAR